BEGIN:VCALENDAR
VERSION:2.0
PRODID:-//ExpressionEngine Easy iCalendar plugin//NONSGML v2.0.0//EN
X-WR-TIMEZONE:America/New_York
X-WR-CALNAME:Upcoming Auctions
BEGIN:VEVENT
UID:130390
DTSTAMP:20241031T170000
DTSTART:20241031T170000
DTEND:20241031T180000
SUMMARY:Oct 31\, 2024 Public Auction
LOCATION:25631Auction Road\, Federalsburg\, MD 21632\, US
DESCRIPTION:ANTIQUES * COLLECTIBLES * FURNITURE * MULTIPLE ESTATES * MUL
 TIPLE HOUSE LOTS * Stieff Sterling Flatware (Rose) 73 Pcs * 
 Local & Regional Advertising Memorabilia * Vintage Toys & Mo
 dern Collectible Toys * Holiday Blow Molds * Along with othe
 r consignments * Continue to visit our web for more info & p
 hotos * PREVIEW: Wed.: Oct 30th: 3:00 PM - 5:00 PM and Thurs
 .: Oct 31st: 9:00 AM - 5:00 PM.
URL:https://www.acurtisandrewauction.com/auctions/detail/bw13039
 0
SEQUENCE:1
END:VEVENT
END:VCALENDAR