BEGIN:VCALENDAR
VERSION:2.0
PRODID:-//ExpressionEngine Easy iCalendar plugin//NONSGML v2.0.0//EN
X-WR-TIMEZONE:America/New_York
X-WR-CALNAME:Upcoming Auctions
BEGIN:VEVENT
UID:131970
DTSTAMP:20241205T170000
DTSTART:20241205T170000
DTEND:20241205T180000
SUMMARY:Dec 5\, 2024 - No Auction Scheduled
LOCATION:25631Auction Road\, Federalsburg\, MD 21632\, US
DESCRIPTION:NO AUCTION SCHEDULED FOR THURS. - DEC 5\, 2024 * NEXT AUCTION
  SCHEDULED FOR SAT. - DEC 7\, 2024 @ 9:30 AM * ESTATE AUCTION
  * ELECTRIC TRAINS & ACCESSORIES * LIONEL * MTH * MARX * WIL
 LIAMS * This is a very large single Estate Train Collection 
 coming to auction with many items NIB.  Approx. 250 engines
  that include Lionel O ga.\, Lionel Standard ga.\, MTH O ga\, M
 arx\, Williams\, approx. 400 train cars which include Lionel O
  ga. & Std. ga.\,  MTH O ga. & O scale\, approx. 300 access
 ories Lionel\, MTH\, Williams\, Tin Plate including buildings\, 
 bridges\, signals\, stations\, track.  Lionel & MTH transforme
 rs\, parts\, and many\, many other items.  Continue to visit a
 uction web site for more info\, list of items and photos.  P
 REVIEW: FRIDAY - DEC 6th: 2:00 PM - 7:00 PM.
URL:https://www.acurtisandrewauction.com/auctions/detail/bw13197
 0
SEQUENCE:1
END:VEVENT
END:VCALENDAR