BEGIN:VCALENDAR
VERSION:2.0
PRODID:-//ExpressionEngine Easy iCalendar plugin//NONSGML v2.0.1//EN
X-WR-TIMEZONE:America/New_York
X-WR-CALNAME:Upcoming Auctions
BEGIN:VEVENT
UID:160956
DTSTAMP:20260423T170000
DTSTART:20260423T170000
DTEND:20260423T180000
SUMMARY:Apr 23\, 2026 Public Auction
LOCATION:25631 Auction Rd\, Federalsburg\, MD 21632\, US
DESCRIPTION:ANTIQUES * COLLECTIBLES * FURNITURE * Local & Regional Adver
 tising Memorabilia * Liquor Advertising Memorabilia * Modern
  Collectible Toys * Waterfowl & Decoy Collectibles * Continu
 e to visit our web for more info & photos * PREVIEW: Wed.: A
 pril 22nd: 3:00 PM - 5:00 PM and Thurs.: April 23rd: 9:00 AM
  - 5:00 PM.
URL:https://www.acurtisandrewauction.com/auctions/detail/bw16095
 6
SEQUENCE:1
END:VEVENT
END:VCALENDAR