BEGIN:VCALENDAR
VERSION:2.0
PRODID:-//ExpressionEngine Easy iCalendar plugin//NONSGML v2.0.1//EN
X-WR-TIMEZONE:America/New_York
X-WR-CALNAME:Upcoming Auctions
BEGIN:VEVENT
UID:161096
DTSTAMP:20260514T170000
DTSTART:20260514T170000
DTEND:20260514T180000
SUMMARY:Coming Soon: May 14\, 2026 Public Auction
LOCATION:25631 Auction Rd\, Federalsburg\, MD 21632\, US
DESCRIPTION:Coming Soon! ANTIQUES * COLLECTIBLES * FURNITURE * Along wit
 h other consignments * Continue to visit our web for more in
 fo and photos * PREVIEW: Wed.: May 13th: 3:00 PM - 5:00 PM a
 nd Thurs.: May 14th: 9:00 AM - 5:00 PM.  
URL:https://www.acurtisandrewauction.com/auctions/detail/bw16109
 6
SEQUENCE:1
END:VEVENT
END:VCALENDAR