BEGIN:VCALENDAR
VERSION:2.0
PRODID:-//ExpressionEngine Easy iCalendar plugin//NONSGML v2.0.1//EN
X-WR-TIMEZONE:America/New_York
X-WR-CALNAME:Upcoming Auctions
BEGIN:VEVENT
UID:58084
DTSTAMP:20201210T170000
DTSTART:20201210T170000
DTEND:20201210T180000
SUMMARY:Dec 10\, 2020 Public Auction
LOCATION:25631Auction Road\, Federalsburg\, MD 21632\, US
DESCRIPTION:ANTIQUES * COLLECTIBLES * FURNITURE
URL:https://www.acurtisandrewauction.com/auctions/detail/bw58084
SEQUENCE:1
END:VEVENT
END:VCALENDAR